BEGIN:VCALENDAR
VERSION:2.0
PRODID:-//Date iCal v3.3//NONSGML kigkonsult.se iCalcreator 2.20.2//
METHOD:PUBLISH
X-WR-CALNAME;VALUE=TEXT:Upcoming Events
BEGIN:VEVENT
UID:calendar.958574.field_event_date.0@city.cbmc.com
DTSTAMP:20260425T010159Z
CREATED:20260416T170001Z
DTSTART:20260430T123000Z
DTEND:20260430T133000Z
LAST-MODIFIED:20260416T170001Z
LOCATION:HYATT REGENCY BUFFALO HOTEL AND CONFERENCE CENTER\n               
    Buffalo\n                  14202
SUMMARY:Buffalo CBMC Breakfast
URL;TYPE=URI:https://city.cbmc.com/events/buffalo-cbmc-breakfast
END:VEVENT
END:VCALENDAR
